BEGIN:VCALENDAR
VERSION:2.0
PRODID:-//Swedish Center for Aquatic Research - ECPv6.15.20//NONSGML v1.0//EN
CALSCALE:GREGORIAN
METHOD:PUBLISH
X-WR-CALNAME:Swedish Center for Aquatic Research
X-ORIGINAL-URL:https://www.sweaquatics.com
X-WR-CALDESC:Events for Swedish Center for Aquatic Research
REFRESH-INTERVAL;VALUE=DURATION:PT1H
X-Robots-Tag:noindex
X-PUBLISHED-TTL:PT1H
BEGIN:VTIMEZONE
TZID:UTC
BEGIN:STANDARD
TZOFFSETFROM:+0000
TZOFFSETTO:+0000
TZNAME:UTC
DTSTART:20150101T000000
END:STANDARD
END:VTIMEZONE
BEGIN:VEVENT
DTSTART;TZID=UTC:20170613T080000
DTEND;TZID=UTC:20170913T170000
DTSTAMP:20260423T150049
CREATED:20141216T105310Z
LAST-MODIFIED:20161111T105514Z
UID:5169-1497340800-1505322000@www.sweaquatics.com
SUMMARY:Summer Camps
DESCRIPTION:This summer we have camp weeks open from 13 of june until 13th of august. Contact office@sweaquatics.com to book your team for high quality training.
URL:https://www.sweaquatics.com/event/summer-camps/
LOCATION:SCAR Testcenter\, Högevallsgatan \, Lund\, 22229\, Sweden
CATEGORIES:CAMP
ORGANIZER;CN="SCAR":MAILTO:office@sweaquatics.com
END:VEVENT
BEGIN:VEVENT
DTSTART;TZID=UTC:20170513T180000
DTEND;TZID=UTC:20170514T170000
DTSTAMP:20260423T150049
CREATED:20140411T134717Z
LAST-MODIFIED:20161111T113008Z
UID:4743-1494698400-1494781200@www.sweaquatics.com
SUMMARY:CAMP Weekend 5
DESCRIPTION:This weekend is open for camps. Contact office@sweaquatics.com to book your team for high quality training weekend.
URL:https://www.sweaquatics.com/event/camp-weekend-3/
LOCATION:SCAR Testcenter\, Högevallsgatan \, Lund\, 22229\, Sweden
CATEGORIES:CAMP
ORGANIZER;CN="SCAR":MAILTO:office@sweaquatics.com
END:VEVENT
BEGIN:VEVENT
DTSTART;TZID=UTC:20170422T180000
DTEND;TZID=UTC:20170423T170000
DTSTAMP:20260423T150049
CREATED:20140411T133905Z
LAST-MODIFIED:20161111T112858Z
UID:4739-1492884000-1492966800@www.sweaquatics.com
SUMMARY:CAMP Weekend 4
DESCRIPTION:This weekend is open for camps. Contact office@sweaquatics.com to book your team for high quality training weekend.
URL:https://www.sweaquatics.com/event/camp-weekend-1/
LOCATION:SCAR Testcenter\, Högevallsgatan \, Lund\, 22229\, Sweden
CATEGORIES:CAMP
ORGANIZER;CN="SCAR":MAILTO:office@sweaquatics.com
END:VEVENT
BEGIN:VEVENT
DTSTART;VALUE=DATE:20170318
DTEND;VALUE=DATE:20170319
DTSTAMP:20260423T150049
CREATED:20141216T103809Z
LAST-MODIFIED:20161111T112743Z
UID:5164-1489795200-1489795200@www.sweaquatics.com
SUMMARY:Camp Weekend 3
DESCRIPTION:This weekend is open for camps. Contact office@sweaquatics.com to book your team for high quality training weekend.
URL:https://www.sweaquatics.com/event/camp-weekend/
LOCATION:SCAR Testcenter\, Högevallsgatan \, Lund\, 22229\, Sweden
CATEGORIES:CAMP
ORGANIZER;CN="SCAR":MAILTO:office@sweaquatics.com
END:VEVENT
BEGIN:VEVENT
DTSTART;VALUE=DATE:20170211
DTEND;VALUE=DATE:20170213
DTSTAMP:20260423T150049
CREATED:20141216T103933Z
LAST-MODIFIED:20161111T112617Z
UID:5166-1486771200-1486943999@www.sweaquatics.com
SUMMARY:Camp Weekend 2
DESCRIPTION:This weekend is open for camps. Contact office@sweaquatics.com to book your team for high quality training weekend.
URL:https://www.sweaquatics.com/event/camp-weekend-4/
LOCATION:SCAR Testcenter\, Högevallsgatan \, Lund\, 22229\, Sweden
CATEGORIES:CAMP
ORGANIZER;CN="SCAR":MAILTO:office@sweaquatics.com
END:VEVENT
BEGIN:VEVENT
DTSTART;VALUE=DATE:20170114
DTEND;VALUE=DATE:20170116
DTSTAMP:20260423T150049
CREATED:20140411T134457Z
LAST-MODIFIED:20161111T112347Z
UID:4742-1484352000-1484524799@www.sweaquatics.com
SUMMARY:CAMP Weekend
DESCRIPTION:This weekend is open for camps. Contact office@sweaquatics.com to book your team for high quality training weekend.
URL:https://www.sweaquatics.com/event/camp-weekend-2/
LOCATION:SCAR Testcenter\, Högevallsgatan \, Lund\, 22229\, Sweden
CATEGORIES:CAMP
ORGANIZER;CN="SCAR":MAILTO:office@sweaquatics.com
END:VEVENT
BEGIN:VEVENT
DTSTART;VALUE=DATE:20161118
DTEND;VALUE=DATE:20161119
DTSTAMP:20260423T150049
CREATED:20141216T104052Z
LAST-MODIFIED:20160516T111128Z
UID:5167-1479427200-1479427200@www.sweaquatics.com
SUMMARY:Camp Weekend
DESCRIPTION:This weekend is open for camps. Contact office@sweaquatics.com to book your team for high quality training weekend.
URL:https://www.sweaquatics.com/event/camp-weekend-5/
LOCATION:SCAR Testcenter\, Högevallsgatan \, Lund\, 22229\, Sweden
CATEGORIES:CAMP
ORGANIZER;CN="SCAR":MAILTO:office@sweaquatics.com
END:VEVENT
END:VCALENDAR